BEGIN:VCALENDAR
VERSION:2.0
PRODID:-//Ventura County 150th - ECPv6.15.20//NONSGML v1.0//EN
CALSCALE:GREGORIAN
METHOD:PUBLISH
X-WR-CALNAME:Ventura County 150th
X-ORIGINAL-URL:https://150years.venturacounty.gov
X-WR-CALDESC:Events for Ventura County 150th
REFRESH-INTERVAL;VALUE=DURATION:PT1H
X-Robots-Tag:noindex
X-PUBLISHED-TTL:PT1H
BEGIN:VTIMEZONE
TZID:America/Los_Angeles
BEGIN:DAYLIGHT
TZOFFSETFROM:-0800
TZOFFSETTO:-0700
TZNAME:PDT
DTSTART:20220313T100000
END:DAYLIGHT
BEGIN:STANDARD
TZOFFSETFROM:-0700
TZOFFSETTO:-0800
TZNAME:PST
DTSTART:20221106T090000
END:STANDARD
BEGIN:DAYLIGHT
TZOFFSETFROM:-0800
TZOFFSETTO:-0700
TZNAME:PDT
DTSTART:20230312T100000
END:DAYLIGHT
BEGIN:STANDARD
TZOFFSETFROM:-0700
TZOFFSETTO:-0800
TZNAME:PST
DTSTART:20231105T090000
END:STANDARD
BEGIN:DAYLIGHT
TZOFFSETFROM:-0800
TZOFFSETTO:-0700
TZNAME:PDT
DTSTART:20240310T100000
END:DAYLIGHT
BEGIN:STANDARD
TZOFFSETFROM:-0700
TZOFFSETTO:-0800
TZNAME:PST
DTSTART:20241103T090000
END:STANDARD
END:VTIMEZONE
BEGIN:VEVENT
DTSTART;TZID=America/Los_Angeles:20231118T090000
DTEND;TZID=America/Los_Angeles:20231118T120000
DTSTAMP:20260419T062330
CREATED:20250128T195526Z
LAST-MODIFIED:20250128T195526Z
UID:873-1700298000-1700308800@150years.venturacounty.gov
SUMMARY:Ventura College Oral History Symposium:  Our Collective Memory
DESCRIPTION:Join Ventura College & the Ventura College Foundation as student historians\, faculty\, and special Guest Speakers present an oral history of our beautiful and fascinating county. Take a walk down memory lane\, learn about culture\, politics\, development of the land\, our agriculture & people. \nWednesday November 15th in ASC- 150 (Applied Science Center) from 1:00pm – 4:00pm\nStudent Presentations – 1:00pm – 2:00pm \nDiscussion with artists-teachers Donna Granata and Hiroko Yoshimoto\, Artist Teacher – 2:00 – 4:00pm \n  \nThursday\, November 16th in ASC 150 (Applied Science Center) from 1:00-4:00pm\nStudent Presentations – 1:00pm – 2:00pm \nGlenda Jackson\, Author\, Historian\, & Ephermemra Collection on display \nFaculty Moderators:  Dr. Michael Ward and Professor Colleen Coffey \n\nAfternoon Guest Speakers and Presentations: 2:00pm – 4:00pm\nIntroduction by \n\nScott Corbett—“Memory\, Imagination\, and History\,” Japanese and Asian American experiences in Ventura County during the Interwar years\nJohn McNally and Howard Bufford—-Ventura’s Veteran of the battle of Bastogne\nKat Lisowska—“The 1969 Flood and the Destruction of the Ventura Marina”\nLauren Coyne–“Ventura County and the 1969 Flood Revisited.”\nGlenda Jackson\, Author\, Historian\, & Ephermemra Collection on display\nModerator:\n\nReception – Hallway  ASC 150 5:00-6:00pm\nEvening Panel – 6:00 – 8:00pm ASC 150\nPresentations and Discussions: “The History of Ventura\, Its Culture\, Politics\, and Development” \nModerator:  Dr. Michael Ward and Professor Colleen Coffey \n\nIntroductions by Michael Ward\n\nPanelists \n\nBetsy Blanchard Chess author “Daughter of the Land”\nAl Guilin- “Limoneira”\nGwen Alferes- “The History of Foster Park”\nSusie Arellanes-Willeford- Cabrillo Village: A History of El Campo”  focusing on the lives of Ventura County’s Immigrant Agricultural Workers in the Twentieth Century.\n\n  \nSaturday\, November 18th in ASC-150 from 9:00am – 12:00pm\nStudent presentations and Speakers \n\nGlenda Jackson – “Over a Century of Memories:  Photographs\, Memorabilia\, and Ephemera of Ventura County”\nKat Lisowska – “Russia in Ventura County:  Holy Trinity—El Rio’s Hidden Gem”\nGlenda Jackson\, Author\, Historian\, & Ephermemra Collection on display\nOthers\n\nPurchase a Daily Parking Pass for $2.00
URL:https://150years.venturacounty.gov/event/ventura-college-oral-history-symposium-our-collective-memory-5/
LOCATION:Ventura College\, 4667 Telegraph Road\, Ventura\, 93003\, United States
CATEGORIES:Partner Events
ATTACH;FMTTYPE=image/png:https://150years.venturacounty.gov/wp-content/uploads/2023/11/Vta-Oral-Sym-Instagram-Post-.png
END:VEVENT
END:VCALENDAR